BEGIN:VCALENDAR
VERSION:2.0
PRODID:-//CIVL - ECPv6.15.17.1//NONSGML v1.0//EN
CALSCALE:GREGORIAN
METHOD:PUBLISH
X-WR-CALNAME:CIVL
X-ORIGINAL-URL:https://languedoc-wines.com
X-WR-CALDESC:Évènements pour CIVL
REFRESH-INTERVAL;VALUE=DURATION:PT1H
X-Robots-Tag:noindex
X-PUBLISHED-TTL:PT1H
BEGIN:VTIMEZONE
TZID:Europe/Paris
BEGIN:DAYLIGHT
TZOFFSETFROM:+0100
TZOFFSETTO:+0200
TZNAME:CEST
DTSTART:20220327T010000
END:DAYLIGHT
BEGIN:STANDARD
TZOFFSETFROM:+0200
TZOFFSETTO:+0100
TZNAME:CET
DTSTART:20221030T010000
END:STANDARD
BEGIN:DAYLIGHT
TZOFFSETFROM:+0100
TZOFFSETTO:+0200
TZNAME:CEST
DTSTART:20230326T010000
END:DAYLIGHT
BEGIN:STANDARD
TZOFFSETFROM:+0200
TZOFFSETTO:+0100
TZNAME:CET
DTSTART:20231029T010000
END:STANDARD
BEGIN:DAYLIGHT
TZOFFSETFROM:+0100
TZOFFSETTO:+0200
TZNAME:CEST
DTSTART:20240331T010000
END:DAYLIGHT
BEGIN:STANDARD
TZOFFSETFROM:+0200
TZOFFSETTO:+0100
TZNAME:CET
DTSTART:20241027T010000
END:STANDARD
END:VTIMEZONE
BEGIN:VEVENT
DTSTART;TZID=Europe/Paris:20230314T170000
DTEND;TZID=Europe/Paris:20230314T230000
DTSTAMP:20260421T102730
CREATED:20230306T122823Z
LAST-MODIFIED:20230306T122823Z
UID:35201-1678813200-1678834800@languedoc-wines.com
SUMMARY:Cap sur Genève par l'AOP Pic Saint Loup
DESCRIPTION:Cap sur Genève par l’AOP Pic Saint Loup\nA l’attention des amateurs de vin à Genève !\nLes vignerons et les vigneronnes de l’AOP Pic Saint Loup s’ installent pour une soirée inédite le 14 mars de 20h à 23h ! \nAu programme :  \nDégustation d’une sélection de vins AOP Pic Saint Loup\nRencontres et échanges avec les vignerons de l’appellation\nCocktail dînatoire\nAmbiance conviviale et décontractée \nPrix : 15 CHF comprenant les dégustations à volonté et une offre food. \nAvis aux professionnels\, un créneau de dégustation vous est réservé de 17h00 à 20h00 . \n  \nDécouvrez l’AOP Pic Saint Loup\n \n\nPlus d’informations : Inscriptions | Instagram | tel.: 04 67 55 97 47|\n  \n   
URL:https://languedoc-wines.com/event/cap-sur-geneve-par-laop-pic-saint-loup/
LOCATION:La Cave Genève\, rue Henry-Frazy 4\, Genève\, 1204\, Suisse
CATEGORIES:pro,public
ORGANIZER;CN="AOP Pic Saint Loup":MAILTO:contact@pic-saint-loup.com
END:VEVENT
END:VCALENDAR