BEGIN:VCALENDAR
VERSION:2.0
PRODID:-//CIVL - ECPv6.15.17.1//NONSGML v1.0//EN
CALSCALE:GREGORIAN
METHOD:PUBLISH
X-WR-CALNAME:CIVL
X-ORIGINAL-URL:https://languedoc-wines.com
X-WR-CALDESC:Évènements pour CIVL
REFRESH-INTERVAL;VALUE=DURATION:PT1H
X-Robots-Tag:noindex
X-PUBLISHED-TTL:PT1H
BEGIN:VTIMEZONE
TZID:Europe/Paris
BEGIN:DAYLIGHT
TZOFFSETFROM:+0100
TZOFFSETTO:+0200
TZNAME:CEST
DTSTART:20210328T010000
END:DAYLIGHT
BEGIN:STANDARD
TZOFFSETFROM:+0200
TZOFFSETTO:+0100
TZNAME:CET
DTSTART:20211031T010000
END:STANDARD
BEGIN:DAYLIGHT
TZOFFSETFROM:+0100
TZOFFSETTO:+0200
TZNAME:CEST
DTSTART:20220327T010000
END:DAYLIGHT
BEGIN:STANDARD
TZOFFSETFROM:+0200
TZOFFSETTO:+0100
TZNAME:CET
DTSTART:20221030T010000
END:STANDARD
BEGIN:DAYLIGHT
TZOFFSETFROM:+0100
TZOFFSETTO:+0200
TZNAME:CEST
DTSTART:20230326T010000
END:DAYLIGHT
BEGIN:STANDARD
TZOFFSETFROM:+0200
TZOFFSETTO:+0100
TZNAME:CET
DTSTART:20231029T010000
END:STANDARD
END:VTIMEZONE
BEGIN:VEVENT
DTSTART;TZID=Europe/Paris:20221016T120000
DTEND;TZID=Europe/Paris:20221016T235900
DTSTAMP:20260419T151702
CREATED:20220908T124809Z
LAST-MODIFIED:20220908T131631Z
UID:33142-1665921600-1665964740@languedoc-wines.com
SUMMARY:Les Régalades de Montpeyroux fêtent 10 ans!
DESCRIPTION:Les Régalades de Montpeyroux fêtent leurs 10 ans ! \nAprès 2 années de la pandémie\, innovation sur les terres de Montpeyroux pour les 10 ans des Régalades. Cette année les vignerons de Montpeyroux confient la conception du menu autour de leurs vins à 4 chefs du Centre de Formation Continue de l’Institut Paul Bocuse à Écully. Chaque plat est la signature du chef qui l’a créé\, 3 à 4 accords mets et vins sont proposés sur chaque plat. Les vins sont offerts par les vignerons du cru.  \nLe choix des vins a été effectué par Gaëtan Bouvier\, Meilleur Sommelier de France 2016\, Master of Port 2019\, et par Georges Gracia\, Maître sommelier et Président de l’Union des Sommeliers Languedoc-Roussillon Vallée du Rhône Sud. \n \n\n\n\nInscriptions obligatoires. \nPlus d’informations :\n– Contact : crumontpeyroux@gmail.com\n– Téléphone: 06 21 70 74 74 \nDécouvrez l’AOP Languedoc-Montpeyroux
URL:https://languedoc-wines.com/event/les-regalades-de-montpeyroux-fetent-10-ans/
LOCATION:Eglise Saint-Martin du Barry\, Rue du Barry\, Montpeyroux\, 34150\, France
CATEGORIES:public
ORGANIZER;CN="AOP Languedoc - Montpeyroux":MAILTO:crumontpeyroux@gmail.com
END:VEVENT
END:VCALENDAR